BEGIN:VCALENDAR
VERSION:2.0
CALSCALE:GREGORIAN
BEGIN:VEVENT

UID:69ea4b5570f45
SUMMARY:FMP webTALK #39
DTSTART;TZID=GMT:20200917T150000Z
DTEND;TZID=GMT:20200917T163000Z
LOCATION:FMP WebTalk #39, Einstiegs-Link für MS Teams
DESCRIPTION:Veranstalter : \nForum Media Planung\nhttp://www.forummediaplanung.at/\n\nWebsite des Veranstaltungsorts : \nhttps://teams.microsoft.com/l/meetup-join/19%3ameeting_M2M3ZTQzYTEtNGQ5ZS00Y2JiLWJhMWUtOGY0OTNhZWNkNTlj%40thread.v2/0?context=%7b%22Tid%22%3a%225be74077-7f4c-4bb2-9d02-f4a258fb975b%22%2c%22Oid%22%3a%229147ddd5-a3c0-4b1b-9545-ee198e221448%22%7d
END:VEVENT

END:VCALENDAR