BEGIN:VCALENDAR
VERSION:2.0
CALSCALE:GREGORIAN
BEGIN:VEVENT

UID:69ea4c71ae8ce
SUMMARY:FMP webTALK #38
DTSTART;TZID=GMT:20200609T150000Z
DTEND;TZID=GMT:20200609T163000Z
LOCATION:FMP webTALK
DESCRIPTION:Veranstalter : \nForum Media Planung\nhttps://www.forummediaplanung.at/\n\nWebsite des Veranstaltungsorts : \nhttps://teams.microsoft.com/l/meetup-join/19%3ameeting_ZTAzNDljYTYtNmRmYS00OTY3LTgyNDktYzU5MTYwYjdmMTBl%40thread.v2/0?context=%7b%22Tid%22%3a%2286cbe1bb-213f-4271-b174-bd59d03c87a3%22%2c%22Oid%22%3a%22d7a850cd-9599-488f-81a8-7811bcf0eaa5%22%7d
END:VEVENT

END:VCALENDAR