BEGIN:VCALENDAR
VERSION:2.0
CALSCALE:GREGORIAN
BEGIN:VEVENT

UID:69e5254c8a336
SUMMARY:FMP TALK #7
DTSTART;TZID=GMT:20130917T163000Z
DTEND;TZID=GMT:20130916T220000Z
LOCATION:
DESCRIPTION:Veranstalter : \nForum Media Planung\nhttps://www.forummediaplanung.at/\n\nWebsite des Veranstaltungsorts : \n
END:VEVENT

END:VCALENDAR