BEGIN:VCALENDAR
VERSION:2.0
CALSCALE:GREGORIAN
BEGIN:VEVENT

UID:69ea2c6016bc7
SUMMARY:FMP TALK #63: Something completely different
DTSTART;TZID=GMT:20251014T150000Z
DTEND;TZID=GMT:20251014T180000Z
LOCATION:Meeting Suites by Bene, Weyringergasse 30,, 1040 Wien
DESCRIPTION:Veranstalter : \nForum Media Planung\nhttps://www.forummediaplanung.at\n\nWebsite des Veranstaltungsorts : \n
END:VEVENT

END:VCALENDAR