BEGIN:VCALENDAR
VERSION:2.0
CALSCALE:GREGORIAN
BEGIN:VEVENT

UID:69ea269f163f0
SUMMARY:FMP TALK #62: BRAND vs. PERFORMANCE
DTSTART;TZID=GMT:20250916T160000Z
DTEND;TZID=GMT:20250916T180000Z
LOCATION:Audi House of Progress, , Kärntner Straße 26, , 1010 Wien
DESCRIPTION:Veranstalter : \nForum Media Planung\nhttps://www.forummediaplanung.at\n\nWebsite des Veranstaltungsorts : \n
END:VEVENT

END:VCALENDAR