BEGIN:VCALENDAR
VERSION:2.0
CALSCALE:GREGORIAN
BEGIN:VEVENT

UID:69ea2768bcbde
SUMMARY:FMP TALK #61: „Politische Einflussnahme &amp\; Gleichschaltung der Medienlandschaft“
DTSTART;TZID=GMT:20250520T160000Z
DTEND;TZID=GMT:20250520T180000Z
LOCATION:Oesterreichische Kontrollbank Aktiengesellschaft (OeKB) , Strauchgasse 3 , 1010 Wien
DESCRIPTION:Veranstalter : \nForum Media Planung\nhttps://www.forummediaplanung.at\n\nWebsite des Veranstaltungsorts : \n
END:VEVENT

END:VCALENDAR