BEGIN:VCALENDAR
VERSION:2.0
CALSCALE:GREGORIAN
BEGIN:VEVENT

UID:69ea26b5a48a0
SUMMARY:FMP TALK #60: Social Media\, ein unmoralisches Angebot?
DTSTART;TZID=GMT:20250325T173000Z
DTEND;TZID=GMT:20250325T190000Z
LOCATION:Club Praterstraße, Praterstraße 18, 1020 Wien, , <a href="mailto:office@praterstrasse.wien">office@praterstrasse.wien</a>, <a href="https://www.instagram.com/praterstrasse.wien">www.instagram.com/praterstrasse.wien</a>
DESCRIPTION:Veranstalter : \nForum Media Planung\nhttps://www.forummediaplanung.at\n\nWebsite des Veranstaltungsorts : \nhttps://www.praterstrasse.wien
END:VEVENT

END:VCALENDAR