BEGIN:VCALENDAR
VERSION:2.0
CALSCALE:GREGORIAN
BEGIN:VEVENT

UID:69ea39bc39f00
SUMMARY:FMP TALK #59: Mit 20 mit dem Rucksack durch die Welt\, mit 40 am Golfplatz – Unterschätzen wir Lebensphasen?
DTSTART;TZID=GMT:20250120T163000Z
DTEND;TZID=GMT:20250120T181500Z
LOCATION:Club Praterstraße, Praterstraße 18, 1020 Wien, , <a href="mailto:office@praterstrasse.wien">office@praterstrasse.wien</a>, <a href="https://www.instagram.com/praterstrasse.wien">www.instagram.com/praterstrasse.wien</a>
DESCRIPTION:Veranstalter : \nForum Media Planung\nhttps://www.forummediaplanung.at\n\nWebsite des Veranstaltungsorts : \nhttps://www.praterstrasse.wien
END:VEVENT

END:VCALENDAR