BEGIN:VCALENDAR
VERSION:2.0
CALSCALE:GREGORIAN
BEGIN:VEVENT

UID:69ea3988d6394
SUMMARY:FMP TALK #58: „Quo Vadis Austria – die Zukunft des österreichischen Werbemarkts“
DTSTART;TZID=GMT:20241008T160000Z
DTEND;TZID=GMT:20241008T173000Z
LOCATION:ACHTUNG Änderung der Location:, Club Praterstraße, Praterstraße 18, 1020 Wien
DESCRIPTION:Veranstalter : \nForum Media Planung\nhttps://www.forummediaplanung.at\n\nWebsite des Veranstaltungsorts : \n
END:VEVENT

END:VCALENDAR