BEGIN:VCALENDAR
VERSION:2.0
CALSCALE:GREGORIAN
BEGIN:VEVENT

UID:69ea385791518
SUMMARY:FMP TALK #57: „Somewhere over the rainbow – Diversität in der Werbung“
DTSTART;TZID=GMT:20240604T153000Z
DTEND;TZID=GMT:20240604T171500Z
LOCATION:Audi House of Progress, , Kärntner Straße 26, , 1010 Wien
DESCRIPTION:Veranstalter : \nForum Media Planung\nhttps://www.forummediaplanung.at\n\nWebsite des Veranstaltungsorts : \n
END:VEVENT

END:VCALENDAR