BEGIN:VCALENDAR
VERSION:2.0
CALSCALE:GREGORIAN
BEGIN:VEVENT

UID:69ea38fd3e158
SUMMARY:FMP TALK #55: RETAIL MEDIA – vom Auftraggeber zum Konkurrenten
DTSTART;TZID=GMT:20240319T163000Z
DTEND;TZID=GMT:20240319T180000Z
LOCATION:„Club Praterstrasse“, , Praterstrasse 18, , 1020 Wien,
DESCRIPTION:Veranstalter : \nForum Media Planung\nhttps://www.forummediaplanung.at\n\nWebsite des Veranstaltungsorts : \n
END:VEVENT

END:VCALENDAR