BEGIN:VCALENDAR
VERSION:2.0
CALSCALE:GREGORIAN
BEGIN:VEVENT

UID:69ea47e97bb89
SUMMARY:FMP TALK #52 und FMP-Sommerfest
DTSTART;TZID=GMT:20230720T150000Z
DTEND;TZID=GMT:20230720T215900Z
LOCATION:Labstelle, Wollzeile 1, 1010 Wien
DESCRIPTION:Veranstalter : \nForum Media Planung\nhttps://www.forummediaplanung.at\n\nWebsite des Veranstaltungsorts : \n
END:VEVENT

END:VCALENDAR