BEGIN:VCALENDAR
VERSION:2.0
CALSCALE:GREGORIAN
BEGIN:VEVENT

UID:69ea46be5d85b
SUMMARY:FMP TALK #51: PITCH or BITCH – Wie weit lehnen sich Agenturen für einen neuen Kunden aus dem Fenster?
DTSTART;TZID=GMT:20230503T153000Z
DTEND;TZID=GMT:20230503T171500Z
LOCATION:Audi House of Progress,, Kärntner Straße 26,, 1010 Wien
DESCRIPTION:Veranstalter : \nForum Media Planung\nhttps://www.forummediaplanung.at\n\nWebsite des Veranstaltungsorts : \n
END:VEVENT

END:VCALENDAR