BEGIN:VCALENDAR
VERSION:2.0
CALSCALE:GREGORIAN
BEGIN:VEVENT

UID:69ea483154015
SUMMARY:FMP TALK #50 – NEUE MESSMETHODEN – Muss das Rad neu erfunden werden?
DTSTART;TZID=GMT:20230322T163000Z
DTEND;TZID=GMT:20230322T181500Z
LOCATION:Audi House of Progress,, Kärntner Straße 26,, 1010 Wien
DESCRIPTION:Veranstalter : \nForum Media Planung\nhttps://www.forummediaplanung.at\n\nWebsite des Veranstaltungsorts : \n
END:VEVENT

END:VCALENDAR