BEGIN:VCALENDAR
VERSION:2.0
CALSCALE:GREGORIAN
BEGIN:VEVENT

UID:69ea460a66a8c
SUMMARY:Talk #48: „Wann ist Grün wirklich grün?“
DTSTART;TZID=GMT:20220927T153000Z
DTEND;TZID=GMT:20220927T213000Z
LOCATION:SAAL der Labstelle (1010 Wien, Wollzeile 1)
DESCRIPTION:Veranstalter : \nForum Media Planung\nhttps://www.forummediaplanung.at\n\nWebsite des Veranstaltungsorts : \n
END:VEVENT

END:VCALENDAR