BEGIN:VCALENDAR
VERSION:2.0
CALSCALE:GREGORIAN
BEGIN:VEVENT

UID:69ea58dee9a5e
SUMMARY:FMP Talk #45:<br>Vertrauenskrise durch Corona
DTSTART;TZID=GMT:20220322T160000Z
DTEND;TZID=GMT:20220322T173000Z
LOCATION:
DESCRIPTION:Veranstalter : \nForum Media Planung\nhttps://www.forummediaplanung.at/\n\nWebsite des Veranstaltungsorts : \nhttps://teams.microsoft.com/l/meetup-join/19%3Ameeting_ZWE0MDUwMzUtNjBmOC00NWE4LTlkODMtNTA0OGE2YzBkZTE2%40thread.v2/0?context=%7B%22Tid%22%3A%2286cbe1bb-213f-4271-b174-bd59d03c87a3%22%2C%22Oid%22%3A%229f89045a-65d3-4089-9aac-f17a33623d58%22%7D
END:VEVENT

END:VCALENDAR