BEGIN:VCALENDAR
VERSION:2.0
CALSCALE:GREGORIAN
BEGIN:VEVENT

UID:69ea3b265bfd6
SUMMARY:FMP webTALK #37
DTSTART;TZID=GMT:20200507T150000Z
DTEND;TZID=GMT:20200507T160000Z
LOCATION:FMP webTALK
DESCRIPTION:Veranstalter : \nForum Media Planung\nhttps://www.forummediaplanung.at/\n\nWebsite des Veranstaltungsorts : \n
END:VEVENT

END:VCALENDAR