BEGIN:VCALENDAR
VERSION:2.0
CALSCALE:GREGORIAN
BEGIN:VEVENT

UID:69ea4d02ee414
SUMMARY:FMP TALK #36 &#8211\; wir müssen leider absagen!
DTSTART;TZID=GMT:20260423T144658Z
DTEND;TZID=GMT:20260423T144658Z
LOCATION:
DESCRIPTION:Veranstalter : \n\n\n\nWebsite des Veranstaltungsorts : \n
END:VEVENT

END:VCALENDAR