BEGIN:VCALENDAR
VERSION:2.0
CALSCALE:GREGORIAN
BEGIN:VEVENT

UID:69ea3a8e8733a
SUMMARY:FMP TALK #35
DTSTART;TZID=GMT:20191022T170000Z
DTEND;TZID=GMT:20191022T183000Z
LOCATION:weXelerate, Praterstraße 1, 1020 Wien
DESCRIPTION:Veranstalter : \nForum Media Planung\nhttps://www.forummediaplanung.at/\n\nWebsite des Veranstaltungsorts : \nhttps://www.wexelerate.com/
END:VEVENT

END:VCALENDAR