BEGIN:VCALENDAR
VERSION:2.0
CALSCALE:GREGORIAN
BEGIN:VEVENT

UID:69ea3b77e5c76
SUMMARY:FMP TALK #34
DTSTART;TZID=GMT:20190528T163000Z
DTEND;TZID=GMT:20190528T180000Z
LOCATION:weXelerate, Praterstraße 1, 1020 Wien
DESCRIPTION:Veranstalter : \nForum Media Planung\nhttps://www.forummediaplanung.at\n\nWebsite des Veranstaltungsorts : \nhttps://www.wexelerate.com/
END:VEVENT

END:VCALENDAR