BEGIN:VCALENDAR
VERSION:2.0
CALSCALE:GREGORIAN
BEGIN:VEVENT

UID:69ea3a6750623
SUMMARY:FMP TALK #33
DTSTART;TZID=GMT:20190311T230000Z
DTEND;TZID=GMT:20190312T193000Z
LOCATION:EUROPLAZA, Gebäude G, Raum MOSKAU, Am EuroPlatz 2, 1120 Wien
DESCRIPTION:Veranstalter : \nForum Media Planung\nhttps://www.forummediaplanung.at/\n\nWebsite des Veranstaltungsorts : \nhttps://www.europlaza.at/de/plaza-life/contact/
END:VEVENT

END:VCALENDAR