BEGIN:VCALENDAR
VERSION:2.0
CALSCALE:GREGORIAN
BEGIN:VEVENT

UID:69ea46859cac8
SUMMARY:FMP Sommerfest 2022
DTSTART;TZID=GMT:20220714T163000Z
DTEND;TZID=GMT:20220714T215900Z
LOCATION:Labstelle Wien, Lugeck 6, 1010 Wien
DESCRIPTION:Veranstalter : \nForum Media Planung\nhttps://www.forummediaplanung.at\n\nWebsite des Veranstaltungsorts : \n
END:VEVENT

END:VCALENDAR