BEGIN:VCALENDAR
VERSION:2.0
CALSCALE:GREGORIAN
BEGIN:VEVENT

UID:69ea57b7756c7
SUMMARY:FMP SOMMERFEST 2021
DTSTART;TZID=GMT:20210826T163000Z
DTEND;TZID=GMT:20210826T215900Z
LOCATION:Labstelle Wien, Lugeck 6, 1010 Wien
DESCRIPTION:Veranstalter : \nForum Media Planung\nhttps://www.forummediaplanung.at\n\nWebsite des Veranstaltungsorts : \nhttp://www.labstelle.at/
END:VEVENT

END:VCALENDAR