BEGIN:VCALENDAR
VERSION:2.0
CALSCALE:GREGORIAN
BEGIN:VEVENT

UID:69ea4cbe042a3
SUMMARY:FMP SOMMERFEST 2019
DTSTART;TZID=GMT:20190725T163000Z
DTEND;TZID=GMT:20190725T210000Z
LOCATION:Labstelle Wien, Lugeck 6, 1010 Wien
DESCRIPTION:Veranstalter : \nForum Media Planung\nhttps://www.forummediaplanung.at\n\nWebsite des Veranstaltungsorts : \nhttp://www.labstelle.at/finden/
END:VEVENT

END:VCALENDAR