BEGIN:VCALENDAR
VERSION:2.0
CALSCALE:GREGORIAN
BEGIN:VEVENT

UID:69ea4ba7f19cb
SUMMARY:FMP SOMMERFEST 2017
DTSTART;TZID=GMT:20170727T163000Z
DTEND;TZID=GMT:20170727T210000Z
LOCATION:Labstelle Wien, Lugeck 6, 1010 Wien
DESCRIPTION:Veranstalter : \nForum Media Planung\nhttps://www.forummediaplanung.at\n\nWebsite des Veranstaltungsorts : \nhttp://www.labstelle.at/finden/
END:VEVENT

END:VCALENDAR