BEGIN:VCALENDAR
VERSION:2.0
CALSCALE:GREGORIAN
BEGIN:VEVENT

UID:69ea0e5acc01e
SUMMARY:FMP SOMMERFEST 2012
DTSTART;TZID=GMT:20120806T220000Z
DTEND;TZID=GMT:20120806T220000Z
LOCATION:
DESCRIPTION:Veranstalter : \nForum Media Planung\nhttps://www.forummediaplanung.at/\n\nWebsite des Veranstaltungsorts : \n
END:VEVENT

END:VCALENDAR