BEGIN:VCALENDAR
VERSION:2.0
CALSCALE:GREGORIAN
BEGIN:VEVENT

UID:69ea4ccea7f5c
SUMMARY:FMP MEDIA WAHL 2020
DTSTART;TZID=GMT:20201008T220000Z
DTEND;TZID=GMT:20201008T220000Z
LOCATION:
DESCRIPTION:Veranstalter : \nForum Media Planung\nhttps://www.forummediaplanung.at/\n\nWebsite des Veranstaltungsorts : \n
END:VEVENT

END:VCALENDAR