BEGIN:VCALENDAR
VERSION:2.0
CALSCALE:GREGORIAN
BEGIN:VEVENT

UID:69ea47a588f04
SUMMARY:FMP MEDIA NIGHT UND GENERALVERSAMMLUNG 2012
DTSTART;TZID=GMT:20121118T173000Z
DTEND;TZID=GMT:20121117T230000Z
LOCATION:
DESCRIPTION:Veranstalter : \nForum Media Planung\nhttps://www.forummediaplanung.at/\n\nWebsite des Veranstaltungsorts : \n
END:VEVENT

END:VCALENDAR