BEGIN:VCALENDAR
VERSION:2.0
CALSCALE:GREGORIAN
BEGIN:VEVENT

UID:69ea27b0ec989
SUMMARY:FMP MEDIA NIGHT 2025 &amp\; WAHL der Mediapersönlichkeit\, Panelist und Unwort des Jahres.
DTSTART;TZID=GMT:20251127T173000Z
DTEND;TZID=GMT:20251127T220000Z
LOCATION:Labstelle Wien, Saal, Wollzeile 1, 1010 Wien
DESCRIPTION:Veranstalter : \nForum Media Planung\nhttp://www.forummediaplanung.at\n\nWebsite des Veranstaltungsorts : \nhttps://www.labstelle.at
END:VEVENT

END:VCALENDAR