BEGIN:VCALENDAR
VERSION:2.0
CALSCALE:GREGORIAN
BEGIN:VEVENT

UID:69ea37e17a464
SUMMARY:FMP MEDIA NIGHT 2023
DTSTART;TZID=GMT:20231123T173000Z
DTEND;TZID=GMT:20231123T225900Z
LOCATION:Labstelle Wien, Saal, Wollzeile 1, 1010 Wien
DESCRIPTION:Veranstalter : \nForum Media Planung\nhttp://www.forummediaplanung.at\n\nWebsite des Veranstaltungsorts : \nhttps://www.labstelle.at
END:VEVENT

END:VCALENDAR