BEGIN:VCALENDAR
VERSION:2.0
CALSCALE:GREGORIAN
BEGIN:VEVENT

UID:69ea4bea26ea0
SUMMARY:FMP MEDIA NIGHT 2019
DTSTART;TZID=GMT:20191128T173000Z
DTEND;TZID=GMT:20191128T223000Z
LOCATION:Az W – Architekturzentrum Wien, , Museumsplatz 1 MQ, 1070 Wien, Österreich
DESCRIPTION:Veranstalter : \nForum Media Planung\nhttps://www.forummediaplanung.at/\n\nWebsite des Veranstaltungsorts : \nhttps://www.azw.at/de/artikel/besuch/?node_id=2
END:VEVENT

END:VCALENDAR