BEGIN:VCALENDAR
VERSION:2.0
CALSCALE:GREGORIAN
BEGIN:VEVENT

UID:69ea4bc5bf26f
SUMMARY:FMP MEDIA NIGHT 2018
DTSTART;TZID=GMT:20180828T163000Z
DTEND;TZID=GMT:20180828T215000Z
LOCATION:Beginn: Innenhof Labstelle, danach: SAAL der Labstelle, Wollzeile 1, 1010 Wien
DESCRIPTION:Veranstalter : \nForum Media Planung\nhttps://www.forummediaplanung.at\n\nWebsite des Veranstaltungsorts : \nhttp://www.labstelle.at/finden/
END:VEVENT

END:VCALENDAR