BEGIN:VCALENDAR
VERSION:2.0
CALSCALE:GREGORIAN
BEGIN:VEVENT

UID:69ea466c086af
SUMMARY:FMP GENERALVERSAMMLUNG 2024 EINLADUNG
DTSTART;TZID=GMT:20241008T153000Z
DTEND;TZID=GMT:20241008T160000Z
LOCATION:ACHTUNG Änderung der Location (auch für TALK):, Club Praterstraße, Praterstraße 18, 1020 Wien
DESCRIPTION:Veranstalter : \nForum Media Planung\nhttps://www.forummediaplanung.at\n\nWebsite des Veranstaltungsorts : \n
END:VEVENT

END:VCALENDAR