BEGIN:VCALENDAR
VERSION:2.0
CALSCALE:GREGORIAN
BEGIN:VEVENT

UID:69ea47293ef19
SUMMARY:FMP GENERALVERSAMMLUNG 2023 EINLADUNG
DTSTART;TZID=GMT:20231109T160000Z
DTEND;TZID=GMT:20231109T163000Z
LOCATION:Audi House of Progress, , Kärntner Straße 26, , 1010 Wien
DESCRIPTION:Veranstalter : \nForum Media Planung\nhttps://www.forummediaplanung.at\n\nWebsite des Veranstaltungsorts : \n
END:VEVENT

END:VCALENDAR