BEGIN:VCALENDAR
VERSION:2.0
CALSCALE:GREGORIAN
BEGIN:VEVENT

UID:69ea3ab47fa3f
SUMMARY:FMP BACKSTAGE #26 &#8211\; &#8222\;WIR STAATSKÜNSTLER&#8220\; im Rabenhof
DTSTART;TZID=GMT:20200220T190000Z
DTEND;TZID=GMT:20200219T230000Z
LOCATION:
DESCRIPTION:Veranstalter : \nForum Media Planung\nhttps://www.forummediaplanung.at/\n\nWebsite des Veranstaltungsorts : \n
END:VEVENT

END:VCALENDAR