BEGIN:VCALENDAR
VERSION:2.0
CALSCALE:GREGORIAN
BEGIN:VEVENT

UID:69ea3a94da739
SUMMARY:FMP BACKSTAGE #24 &#8211\; leider abgesagt
DTSTART;TZID=GMT:20190921T171500Z
DTEND;TZID=GMT:20190920T220000Z
LOCATION:Media Quarter Marx 3.1., Maria Jacobi Gasse 1, 1030 Wien
DESCRIPTION:Veranstalter : \nPULS 4\nhttps://www.puls4.com/\n\nWebsite des Veranstaltungsorts : \n
END:VEVENT

END:VCALENDAR