BEGIN:VCALENDAR
VERSION:2.0
CALSCALE:GREGORIAN
BEGIN:VEVENT

UID:69ea4b6d894c6
SUMMARY:FMP BACKSTAGE #23 &#8211\; DANCING STARS 2019
DTSTART;TZID=GMT:20190412T154500Z
DTEND;TZID=GMT:20190412T201500Z
LOCATION:lt. Veranstaltungs-Info, Wien
DESCRIPTION:Veranstalter : \nForum Media Planung\nhttps://www.forummediaplanung.at\n\nWebsite des Veranstaltungsorts : \n
END:VEVENT

END:VCALENDAR