BEGIN:VCALENDAR
VERSION:2.0
CALSCALE:GREGORIAN
BEGIN:VEVENT

UID:69ea293360d12
SUMMARY:Einladung FMP-Sommerfest 2025
DTSTART;TZID=GMT:20250716T160000Z
DTEND;TZID=GMT:20250716T200000Z
LOCATION:Red Bull Media House GmbH, Am grünen Prater 3, 1020 Wien
DESCRIPTION:Veranstalter : \nForum Media Planung\nhttps://www.forummediaplanung.at\n\nWebsite des Veranstaltungsorts : \n
END:VEVENT

END:VCALENDAR